BEGIN:VCALENDAR
VERSION:2.0
PRODID:-//hacksw/handcal//NONSGML v1.0//EN
BEGIN:VEVENT
SUMMARY:Nievre 25m La Charite
UID:b6f03120-6424-476c-b31b-35277477dc31
DTSTART:20260424T220000Z
DTEND:20260425T220000Z
LOCATION:Localisation   
CATEGORIES:Sportif
STATUS:
URL;VALUE=URI:https://www.tirsportifdecizois.com/evenements/2026/04/25/nievre-25m-la-charite-2425431
END:VEVENT
END:VCALENDAR
